BEGIN:VCALENDAR
PRODID:-//hacksw/handcal//NONSGML v1.0//EN
VERSION:2.0
METHOD:PUBLISH
BEGIN:VEVENT
DTSTART:20260811T223000Z
DTEND:20260812T003000Z
LOCATION:
UID:2890920260811T223000ZEPCSED Summer Social
DTSTAMP:20260420T012759Z
DESCRIPTION:
SUMMARY:EPCSED Summer Social - Estate Planning Council of Southeast Denver 
PRIORITY:3
BEGIN:VALARM
TRIGGER:PT18H
ACTION:DISPLAY
DESCRIPTION:Reminder
END:VALARM
END:VEVENT
END:VCALENDAR