BEGIN:VCALENDAR
PRODID:-//hacksw/handcal//NONSGML v1.0//EN
VERSION:2.0
METHOD:PUBLISH
BEGIN:VEVENT
DTSTART:20260714T140000Z
DTEND:20260714T150000Z
LOCATION:Zoom
UID:2892820260714T140000ZEPCSED Event: Members-Only Roundtable Discussion
DTSTAMP:20260420T012713Z
DESCRIPTION:
SUMMARY:EPCSED Event: Members-Only Roundtable Discussion - Estate Planning Council of Southeast Denver 
PRIORITY:3
BEGIN:VALARM
TRIGGER:PT18H
ACTION:DISPLAY
DESCRIPTION:Reminder
END:VALARM
END:VEVENT
END:VCALENDAR